Workbook

Sheet RawData
A1: session | B1: vote_number | C1: vote_question_text | D1: member_full | E1: vote_cast | F1: vote_id | G1: numerical_vote
A2: 1 | B2: 19 | C2: On Passage of the Bill H.R. 514 | D2: Akaka (D-HI) | E2: Yea | F2: =CONCATENATE(Table1[[#This Row],[session]],":",Table1[[#This Row],[vote_number]]) -> 1:19 | G2: =IF(EXACT(Table1[[#This Row],[vote_cast]], "Yea"), 1, IF(EXACT(Table1[[#This Row],[vote_cast]], "Nay"), -1, 0)) -> 1
A3: 1 | B3: 19 | C3: On Passage of the Bill H.R. 514 | D3: Alexander (R-TN) | E3: Yea | F3: =CONCATENATE(Table1[[#This Row],[session]],":",Table1[[#This Row],[vote_number]]) -> 1:19 | G3: =IF(EXACT(Table1[[#This Row],[vote_cast]], "Yea"), 1, IF(EXACT(Table1[[#This Row],[vote_cast]], "Nay"), -1, 0)) -> 1
A4: 1 | B4: 19 | C4: On Passage of the Bill H.R. 514 | D4: Ayotte (R-NH) | E4: Yea | F4: =CONCATENATE(Table1[[#This Row],[session]],":",Table1[[#This Row],[vote_number]]) -> 1:19 | G4: =IF(EXACT(Table1[[#This Row],[vote_cast]], "Yea"), 1, IF(EXACT(Table1[[#This Row],[vote_cast]], "Nay"), -1, 0)) -> 1
A5: 1 | B5: 19 | C5: On Passage of the Bill H.R. 514 | D5: Barrasso (R-WY) | E5: Yea | F5: =CONCATENATE(Table1[[#This Row],[session]],":",Table1[[#This Row],[vote_number]]) -> 1:19 | G5: =IF(EXACT(Table1[[#This Row],[vote_cast]], "Yea"), 1, IF(EXACT(Table1[[#This Row],[vote_cast]], "Nay"), -1, 0)) -> 1
A6: 1 | B6: 19 | C6: On Passage of the Bill H.R. 514 | D6: Baucus (D-MT) | E6: Nay | F6: =CONCATENATE(Table1[[#This Row],[session]],":",Table1[[#This Row],[vote_number]]) -> 1:19 | G6: =IF(EXACT(Table1[[#This Row],[vote_cast]], "Yea"), 1, IF(EXACT(Table1[[#This Row],[vote_cast]], "Nay"), -1, 0)) -> -1
A7: 1 | B7: 19 | C7: On Passage of the Bill H.R. 514 | D7: Begich (D-AK) | E7: Nay | F7: =CONCATENATE(Table1[[#This Row],[session]],":",Table1[[#This Row],[vote_number]]) -> 1:19 | G7: =IF(EXACT(Table1[[#This Row],[vote_cast]], "Yea"), 1, IF(EXACT(Table1[[#This Row],[vote_cast]], "Nay"), -1, 0)) -> -1
A8: 1 | B8: 19 | C8: On Passage of the Bill H.R. 514 | D8: Bennet (D-CO) | E8: Yea | F8: =CONCATENATE(Table1[[#This Row],[session]],":",Table1[[#This Row],[vote_number]]) -> 1:19 | G8: =IF(EXACT(Table1[[#This Row],[vote_cast]], "Yea"), 1, IF(EXACT(Table1[[#This Row],[vote_cast]], "Nay"), -1, 0)) -> 1
A9: 1 | B9: 19 | C9: On Passage of the Bill H.R. 514 | D9: Bingaman (D-NM) | E9: Yea | F9: =CONCATENATE(Table1[[#This Row],[session]],":",Table1[[#This Row],[vote_number]]) -> 1:19 | G9: =IF(EXACT(Table1[[#This Row],[vote_cast]], "Yea"), 1, IF(EXACT(Table1[[#This Row],[vote_cast]], "Nay"), -1, 0)) -> 1
A10: 1 | B10: 19 | C10: On Passage of the Bill H.R. 514 | D10: Blumenthal (D-CT) | E10: Yea | F10: =CONCATENATE(Table1[[#This Row],[session]],":",Table1[[#This Row],[vote_number]]) -> 1:19 | G10: =IF(EXACT(Table1[[#This Row],[vote_cast]], "Yea"), 1, IF(EXACT(Table1[[#This Row],[vote_cast]], "Nay"), -1, 0)) -> 1
A11: 1 | B11: 19 | C11: On Passage of the Bill H.R. 514 | D11: Blunt (R-MO) | E11: Yea | F11: =CONCATENATE(Table1[[#This Row],[session]],":",Table1[[#This Row],[vote_number]]) -> 1:19 | G11: =IF(EXACT(Table1[[#This Row],[vote_cast]], "Yea"), 1, IF(EXACT(Table1[[#This Row],[vote_cast]], "Nay"), -1, 0)) -> 1
A12: 1 | B12: 19 | C12: On Passage of the Bill H.R. 514 | D12: Boozman (R-AR) | E12: Yea | F12: =CONCATENATE(Table1[[#This Row],[session]],":",Table1[[#This Row],[vote_number]]) -> 1:19 | G12: =IF(EXACT(Table1[[#This Row],[vote_cast]], "Yea"), 1, IF(EXACT(Table1[[#This Row],[vote_cast]], "Nay"), -1, 0)) -> 1
A13: 1 | B13: 19 | C13: On Passage of the Bill H.R. 514 | D13: Boxer (D-CA) | E13: Yea | F13: =CONCATENATE(Table1[[#This Row],[session]],":",Table1[[#This Row],[vote_number]]) -> 1:19 | G13: =IF(EXACT(Table1[[#This Row],[vote_cast]], "Yea"), 1, IF(EXACT(Table1[[#This Row],[vote_cast]], "Nay"), -1, 0)) -> 1
... A3501: 2 | B3501: 251 | C3501: On Passage of the Bill H.R. 8 | D3501: Wyden (D-OR) | E3501: Yea | F3501: =CONCATENATE(Table1[[#This Row],[session]],":",Table1[[#This Row],[vote_number]]) -> 2:251 | G3501: =IF(EXACT(Table1[[#This Row],[vote_cast]], "Yea"), 1, IF(EXACT(Table1[[#This Row],[vote_cast]], "Nay"), -1, 0)) -> 1

Sheet PivotTable
A1: Max of numerical_vote | B1: Column Labels
A2: Row Labels | B2: 1:101 | C2: 1:115 | D2: 1:129 | E2: 1:138 | F2: 1:150 | G2: 1:159 | H2: 1:161 | I2: 1:162 | J2: 1:163 | K2: 1:19 | L2: 1:194 | M2: 1:204 | N2: 1:218 | O2: 1:233 | P2: 1:25 | Q2: 1:35 | R2: 1:36 | S2: 1:49 | T2: 1:61 | U2: 2:111 | V2: 2:113 | W2: 2:14 | X2: 2:164 | Y2: 2:184 | Z2: 2:196 | AA2: 2:221 | AB2: 2:223 | AC2: 2:236 | AD2: 2:248 | AE2: 2:251 | AF2: 2:48 | AG2: 2:55 | AH2: 2:82 | AI2: 2:87 | AJ2: 2:96
A3: Akaka (D-HI) | B3: 1 | C3: 1 | D3: 1 | E3: 1 | F3: 1 | G3: 1 | H3: 1 | I3: -1 | J3: -1 | K3: 1 | L3: 1 | M3: 1 | N3: 1 | O3: 1 | P3: 1 | Q3: 1 | R3: -1 | S3: -1 | T3: 1 | U3: 1 | V3: 1 | W3: 1 | X3: 1 | Y3: 1 | Z3: -1 | AA3: 1 | AB3: 1 | AC3: -1 | AD3: 1 | AE3: 1 | AF3: 1 | AG3: -1 | AH3: -1 | AI3: 1 | AJ3: 1
A4: Alexander (R-TN) | B4: 1 | C4: 1 | D4: 1 | E4: 1 | F4: -1 | G4: -1 | H4: 1 | I4: 1 | J4: 1 | K4: 1 | L4: 1 | M4: 1 | N4: 1 | O4: 1 | P4: 1 | Q4: 1 | R4: 1 | S4: 1 | T4: 1 | U4: 1 | V4: -1 | W4: 1 | X4: 1 | Y4: -1 | Z4: -1 | AA4: 1 | AB4: 1 | AC4: 1 | AD4: -1 | AE4: 1 | AF4: 1 | AG4: 1 | AH4: 1 | AI4: 1 | AJ4: 1
A5: Ayotte (R-NH) | B5: -1 | C5: 1 | D5: 1 | E5: 1 | F5: -1 | G5: -1 | H5: 1 | I5: 1 | J5: 1 | K5: 1 | L5: -1 | M5: 1 | N5: 1 | O5: -1 | P5: 1 | Q5: 1 | R5: 1 | S5: 1 | T5: 1 | U5: 1 | V5: -1 | W5: 1 | X5: -1 | Y5: -1 | Z5: -1 | AA5: 1 | AB5: 1 | AC5: 1 | AD5: -1 | AE5: 1 | AF5: -1 | AG5: 1 | AH5: -1 | AI5: 1 | AJ5: 1
A6: Barrasso (R-WY) | B6: 1 | C6: 1 | D6: 1 | E6: 1 | F6: 0 | G6: -1 | H6: 1 | I6: 1 | J6: 1 | K6: 1 | L6: -1 | M6: 1 | N6: 1 | O6: -1 | P6: 1 | Q6: 1 | R6: 1 | S6: 1 | T6: 1 | U6: 1 | V6: -1 | W6: 1 | X6: 1 | Y6: -1 | Z6: -1 | AA6: 1 | AB6: 1 | AC6: 1 | AD6: -1 | AE6: 1 | AF6: -1 | AG6: 1 | AH6: -1 | AI6: -1 | AJ6: -1
A7: Baucus (D-MT) | B7: 1 | C7: 1 | D7: 1 | E7: 1 | F7: 1 | G7: 1 | H7: 1 | I7: 1 | J7: 1 | K7: -1 | L7: 1 | M7: 1 | N7: 1 | O7: 1 | P7: 1 | Q7: 1 | R7: -1 | S7: 1 | T7: 1 | U7: 1 | V7: 1 | W7: 1 | X7: 1 | Y7: 1 | Z7: -1 | AA7: 1 | AB7: 1 | AC7: -1 | AD7: 1 | AE7: 1 | AF7: 1 | AG7: -1 | AH7: 1 | AI7: 1 | AJ7: 1
A8: Begich (D-AK) | B8: 1 | C8: 1 | D8: 1 | E8: 1 | F8: 1 | G8: 1 | H8: 1 | I8: -1 | J8: -1 | K8: -1 | L8: 1 | M8: 1 | N8: 1 | O8: 1 | P8: 1 | Q8: 1 | R8: -1 | S8: 1 | T8: 1 | U8: 1 | V8: 1 | W8: 1 | X8: 1 | Y8: 1 | Z8: -1 | AA8: 1 | AB8: 1 | AC8: -1 | AD8: 1 | AE8: 1 | AF8: 1 | AG8: -1 | AH8: 1 | AI8: 1 | AJ8: 1
A9: Bennet (D-CO) | B9: 1 | C9: 1 | D9: 1 | E9: 1 | F9: 1 | G9: 1 | H9: 1 | I9: 1 | J9: 1 | K9: 1 | L9: 1 | M9: 1 | N9: 1 | O9: 1 | P9: 1 | Q9: 1 | R9: -1 | S9: 1 | T9: 1 | U9: 1 | V9: 1 | W9: 1 | X9: 1 | Y9: 1 | Z9: -1 | AA9: 1 | AB9: 1 | AC9: 1 | AD9: 1 | AE9: -1 | AF9: 1 | AG9: 1 | AH9: 1 | AI9: 1 | AJ9: 1
A10: Bingaman (D-NM) | B10: 1 | C10: 1 | D10: 1 | E10: 1 | F10: 1 | G10: 1 | H10: 1 | I10: 1 | J10: 1 | K10: 1 | L10: 1 | M10: 1 | N10: 1 | O10: 1 | P10: 1 | Q10: 1 | R10: -1 | S10: 1 | T10: 1 | U10: 1 | V10: 1 | W10: -1 | X10: 1 | Y10: 1 | Z10: -1 | AA10: 1 | AB10: 1 | AC10: -1 | AD10: 1 | AE10: 1 | AF10: 1 | AG10: 1 | AH10: 1 | AI10: 1 | AJ10: 1
A11: Blumenthal (D-CT) | B11: 1 | C11: 1 | D11: 1 | E11: 1 | F11: 1 | G11: 1 | H11: -1 | I11: -1 | J11: -1 | K11: 1 | L11: 1 | M11: 1 | N11: 1 | O11: 1 | P11: 1 | Q11: 1 | R11: -1 | S11: 1 | T11: 1 | U11: 0 | V11: 0 | W11: 1 | X11: 1 | Y11: 1 | Z11: -1 | AA11: 1 | AB11: 1 | AC11: 1 | AD11: 1 | AE11: 1 | AF11: 1 | AG11: -1 | AH11: 1 | AI11: 1 | AJ11: 1
A12: Blunt (R-MO) | B12: 1 | C12: 1 | D12: 1 | E12: 1 | F12: 1 | G12: -1 | H12: 1 | I12: 1 | J12: 1 | K12: 1 | L12: 1 | M12: 1 | N12: 1 | O12: 1 | P12: 1 | Q12: 1 | R12: 1 | S12: 1 | T12: 1 | U12: 1 | V12: -1 | W12: 1 | X12: 1 | Y12: -1 | Z12: -1 | AA12: 1 | AB12: 1 | AC12: 1 | AD12: -1 | AE12: 1 | AF12: 1 | AG12: 1 | AH12: 1 | AI12: -1 | AJ12: 1
A13: Boozman (R-AR) | B13: -1 | C13: 0 | D13: 1 | E13: 1 | F13: 1 | G13: -1 | H13: 1 | I13: 1 | J13: 1 | K13: 1 | L13: -1 | M13: 1 | N13: 1 | O13: 1 | P13: 1 | Q13: 1 | R13: 1 | S13: 1 | T13: 1 | U13: 1 | V13: -1 | W13: 1 | X13: -1 | Y13: -1 | Z13: 0 | AA13: 1 | AB13: 1 | AC13: 1 | AD13: -1 | AE13: 1 | AF13: 1 | AG13: 1 | AH13: 1 | AI13: -1 | AJ13: 1
A14: Boxer (D-CA) | B14: 1 | C14: 1 | D14: -1 | E14: 1 | F14: 1 | G14: 1 | H14: 1 | I14: -1 | J14: -1 | K14: 1 | L14: 1 | M14: 1 | N14: 1 | O14: 1 | P14: 1 | Q14: -1 | R14: -1 | S14: 1 | T14: 1 | U14: 1 | V14: 1 | W14: 1 | X14: 1 | Y14: 1 | Z14: 0 | AA14: 1 | AB14: 1 | AC14: 0 | AD14: 0 | AE14: 1 | AF14: 1 | AG14: -1 | AH14: 1 | AI14: 1 | AJ14: 1
... A33: Durbin (D-IL) | B33: 1 | C33: 1 | D33: 1 | E33: 1 | F33: 1 | G33: 1 | H33: 1 | I33: 1 | J33: -1 | K33: 1 | L33: 1 | M33: 1 | N33: 1 | O33: 1 | P33: 1 | Q33: 1 | R33: -1 | S33: -1 | T33: 1 | U33: 1 | V33: 1 | W33: 1 | X33: 1 | Y33: 1 | Z33: -1 | AA33: 1 | AB33: 1 | AC33: -1 | AD33: 1 | AE33: 1 | AF33: 1 | AG33: -1 | AH33: 1 | AI33: 1 | AJ33: 1
A34: Ensign (R-NV) | K34: 1 | P34: 1 | Q34: -1 | R34: 1 | S34: 1 | T34: -1
A35: Enzi (R-WY) | B35: 1 | C35: 1 | D35: 1 | E35: 1 | F35: 0 | G35: -1 | H35: 1 | I35: 1 | J35: 1 | K35: 1 | L35: -1 | M35: 1 | N35: 1 | O35: -1 | P35: 1 | Q35: 1 | R35: 1 | S35: 1 | T35: 1 | U35: 1 | V35: 0 | W35: 1 | X35: 1 | Y35: -1 | Z35: -1 | AA35: 1 | AB35: 1 | AC35: 1 | AD35: -1 | AE35: 1 | AF35: -1 | AG35: 1 | AH35: -1 | AI35: -1 | AJ35: -1
A36: Feinstein (D-CA) | B36: 1 | C36: 1 | D36: 1 | E36: 1 | F36: 1 | G36: 1 | H36: 1 | I36: 1 | J36: 1 | K36: 1 | L36: 1 | M36: 1 | N36: 1 | O36: 1 | P36: 1 | Q36: 1 | R36: -1 | S36: 1 | T36: 1 | U36: 1 | V36: 1 | W36: 1 | X36: 1 | Y36: 1 | Z36: -1 | AA36: 1 | AB36: 1 | AC36: 1 | AD36: 1 | AE36: 1 | AF36: 1 | AG36: -1 | AH36: 1 | AI36: 1 | AJ36: 1
A37: Franken (D-MN) | B37: 1 | C37: 1 | D37: 1 | E37: 1 | F37: 1 | G37: 1 | H37: 1 | I37: -1 | J37: -1 | K37: 1 | L37: 1 | M37: 1 | N37: 1 | O37: 1 | P37: 1 | Q37: 1 | R37: -1 | S37: 1 | T37: 1 | U37: 1 | V37: 1 | W37: 1 | X37: 1 | Y37: 1 | Z37: -1 | AA37: 1 | AB37: 1 | AC37: -1 | AD37: 1 | AE37: 1 | AF37: 1 | AG37: -1 | AH37: 1 | AI37: 1 | AJ37: 1
A38: Gillibrand (D-NY) | B38: 1 | C38: 1 | D38: 1 | E38: 1 | F38: 1 | G38: 1 | H38: 1 | I38: -1 | J38: -1 | K38: 1 | L38: 1 | M38: 1 | N38: 1 | O38: 1 | P38: 1 | Q38: 1 | R38: -1 | S38: 1 | T38: 1 | U38: 1 | V38: 1 | W38: 1 | X38: 1 | Y38: 1 | Z38: -1 | AA38: 1 | AB38: 1 | AC38: 1 | AD38: 1 | AE38: 1 | AF38: 1 | AG38: -1 | AH38: 1 | AI38: 1 | AJ38: 1
A39: Graham (R-SC) | B39: 1 | C39: 1 | D39: 1 | E39: 1 | F39: 1 | G39: 1 | H39: 1 | I39: 1 | J39: 1 | K39: 1 | L39: 1 | M39: 1 | N39: 1 | O39: -1 | P39: 1 | Q39: 1 | R39: 1 | S39: 1 | T39: -1 | U39: 1 | V39: -1 | W39: 1 | X39: -1 | Y39: -1 | Z39: -1 | AA39: 1 | AB39: 1 | AC39: 1 | AD39: -1 | AE39: 1 | AF39: -1 | AG39: 1 | AH39: -1 | AI39: -1 | AJ39: 1
A40: Grassley (R-IA) | B40: -1 | C40: 1 | D40: 1 | E40: 1 | F40: -1 | G40: 1 | H40: 1 | I40: 1 | J40: 1 | K40: 1 | L40: -1 | M40: 1 | N40: 1 | O40: -1 | P40: 1 | Q40: 1 | R40: 1 | S40: 1 | T40: 1 | U40: 1 | V40: -1 | W40: 1 | X40: 1 | Y40: -1 | Z40: 1 | AA40: 1 | AB40: 1 | AC40: 1 | AD40: -1 | AE40: -1 | AF40: 1 | AG40: 1 | AH40: 1 | AI40: -1 | AJ40: -1
A41: Hagan (D-NC) | B41: 1 | C41: 1 | D41: 1 | E41: 1 | F41: 1 | G41: 1 | H41: -1 | I41: -1 | J41: -1 | K41: 1 | L41: 1 | M41: 0 | N41: 1 | O41: 1 | P41: 1 | Q41: 1 | R41: -1 | S41: 1 | T41: 1 | U41: 1 | V41: 1 | W41: 1 | X41: 1 | Y41: 1 | Z41: -1 | AA41: 1 | AB41: 1 | AC41: 1 | AD41: 1 | AE41: 1 | AF41: 1 | AG41: 1 | AH41: 1 | AI41: 1 | AJ41: 1
A42: Harkin (D-IA) | B42: 1 | C42: 1 | D42: 1 | E42: 1 | F42: 1 | G42: 1 | H42: -1 | I42: -1 | J42: -1 | K42: -1 | L42: 1 | M42: 1 | N42: -1 | O42: 1 | P42: 1 | Q42: 1 | R42: -1 | S42: -1 | T42: 1 | U42: 1 | V42: 1 | W42: 1 | X42: 1 | Y42: 1 | Z42: -1 | AA42: 1 | AB42: 1 | AC42: -1 | AD42: 1 | AE42: -1 | AF42: 1 | AG42: -1 | AH42: 1 | AI42: 1 | AJ42: 1
A43: Hatch (R-UT) | B43: -1 | C43: 1 | D43: 1 | E43: 1 | F43: -1 | G43: -1 | H43: 1 | I43: 1 | J43: 1 | K43: 1 | L43: -1 | M43: 1 | N43: 1 | O43: -1 | P43: 1 | Q43: 1 | R43: 1 | S43: 1 | T43: -1 | U43: 1 | V43: -1 | W43: 1 | X43: -1 | Y43: -1 | Z43: -1 | AA43: 1 | AB43: 1 | AC43: 1 | AD43: -1 | AE43: 1 | AF43: 0 | AG43: 1 | AH43: -1 | AI43: -1 | AJ43: -1
A44: Heller (R-NV) | B44: -1 | C44: 1 | D44: 1 | E44: 1 | F44: 1 | G44: -1 | H44: 1 | I44: 1 | J44: 1 | L44: -1 | M44: 1 | N44: 1 | O44: 1 | U44: 1 | V44: -1 | W44: 1 | X44: -1 | Y44: -1 | Z44: 0 | AA44: 1 | AB44: 1 | AC44: 1 | AD44: 1 | AE44: 1 | AF44: 1 | AG44: 1 | AH44: -1 | AI44: 1 | AJ44: 1
A45: Hoeven (R-ND) | B45: 1 | C45: 1 | D45: 1 | E45: 1 | F45: 1 | G45: 1 | H45: 1 | I45: 1 | J45: 1 | K45: 1 | L45: 1 | M45: 1 | N45: 1 | O45: 1 | P45: 1 | Q45: 1 | R45: 1 | S45: 1 | T45: 1 | U45: 1 | V45: -1 | W45: 1 | X45: 1 | Y45: -1 | Z45: -1 | AA45: 1 | AB45: 1 | AC45: 1 | AD45: 1 | AE45: 1 | AF45: 1 | AG45: 1 | AH45: 1 | AI45: 1 | AJ45: 1
A46: Hutchison (R-TX) | B46: 1 | C46: 1 | D46: 1 | E46: 1 | F46: -1 | G46: -1 | H46: 1 | I46: 1 | J46: 1 | K46: 1 | L46: 1 | M46: 1 | N46: 1 | O46: 1 | P46: 1 | Q46: 1 | R46: 1 | S46: 1 | T46: 1 | U46: 0 | V46: 0 | W46: 1 | X46: 1 | Y46: -1 | Z46: -1 | AA46: 1 | AB46: 1 | AC46: 1 | AD46: 1 | AE46: 1 | AF46: 1 | AG46: 1 | AH46: -1 | AI46: 1 | AJ46: 1
A47: Inhofe (R-OK) | B47: -1 | C47: 1 | D47: 1 | E47: 1 | F47: -1 | G47: -1 | H47: 1 | I47: 1 | J47: 1 | K47: 1 | L47: -1 | M47: 1 | N47: 1 | O47: -1 | P47: 1 | Q47: 1 | R47: 1 | S47: 1 | T47: -1 | U47: 1 | V47: -1 | W47: 1 | X47: -1 | Y47: -1 | Z47: 0 | AA47: 1 | AB47: 1 | AC47: 1 | AD47: -1 | AE47: 1 | AF47: 1 | AG47: 1 | AH47: -1 | AI47: -1 | AJ47: -1
A48: Inouye (D-HI) | B48: 1 | C48: 1 | D48: 1 | E48: 1 | F48: 1 | G48: -1 | H48: 1 | I48: -1 | J48: 1 | K48: 1 | L48: 1 | M48: 0 | N48: 1 | O48: 1 | P48: 1 | Q48: 1 | R48: -1 | S48: -1 | T48: 1 | U48: 1 | V48: 1 | W48: 1 | X48: 1 | Y48: 1 | Z48: -1 | AA48: 1 | AB48: 0 | AF48: 1 | AG48: 1 | AH48: 1 | AI48: 1 | AJ48: 1
A49: Isakson (R-GA) | B49: -1 | C49: 1 | D49: 1 | E49: 1 | F49: 1 | G49: 1 | H49: 1 | I49: 1 | J49: 1 | K49: 1 | L49: -1 | M49: 1 | N49: 1 | O49: -1 | P49: 1 | Q49: 1 | R49: 1 | S49: 1 | T49: 1 | U49: 1 | V49: -1 | W49: 1 | X49: -1 | Y49: -1 | Z49: -1 | AA49: 1 | AB49: 1 | AC49: 1 | AD49: -1 | AE49: 1 | AF49: 1 | AG49: 1 | AH49: -1 | AI49: -1 | AJ49: 1
A50: Johanns (R-NE) | B50: 1 | C50: 1 | D50: 1 | E50: 1 | F50: 1 | G50: 1 | H50: 1 | I50: 1 | J50: 1 | K50: 1 | L50: 1 | M50: 1 | N50: 1 | O50: 1 | P50: 1 | Q50: 1 | R50: 1 | S50: 1 | T50: 1 | U50: 1 | V50: -1 | W50: 1 | X50: 1 | Y50: -1 | Z50: -1 | AA50: 1 | AB50: 1 | AC50: 1 | AD50: -1 | AE50: 1 | AF50: -1 | AG50: 1 | AH50: -1 | AI50: -1 | AJ50: 1
A51: Johnson (D-SD) | B51: 1 | C51: 1 | D51: 1 | E51: 1 | F51: 1 | G51: 1 | H51: 1 | I51: 1 | J51: 1 | K51: 1 | L51: 1 | M51: 1 | N51: 1 | O51: 1 | P51: 1 | Q51: 1 | R51: -1 | S51: 1 | T51: 1 | U51: 1 | V51: 1 | W51: 1 | X51: 1 | Y51: 1 | Z51: -1 | AA51: 1 | AB51: 1 | AC51: 1 | AD51: 1 | AE51: 1 | AF51: 1 | AG51: 1 | AH51: 1 | AI51: 1 | AJ51: 1
A52: Johnson (R-WI) | B52: -1 | C52: 1 | D52: -1 | E52: -1 | F52: -1 | G52: -1 | H52: 1 | I52: 1 | J52: 1 | K52: 1 | L52: -1 | M52: 1 | N52: 1 | O52: -1 | P52: -1 | Q52: 1 | R52: 1 | S52: 1 | T52: -1 | U52: 1 | V52: -1 | W52: 1 | X52: -1 | Y52: -1 | Z52: -1 | AA52: 1 | AB52: 1 | AC52: 1 | AD52: -1 | AE52: 1 | AF52: -1 | AG52: 1 | AH52: -1 | AI52: -1 | AJ52: -1
A53: Kerry (D-MA) | B53: 1 | C53: 1 | D53: 1 | E53: 1 | F53: 1 | G53: 1 | H53: 1 | I53: 1 | J53: 1 | K53: 0 | L53: 1 | M53: 1 | N53: 1 | O53: 1 | P53: 0 | Q53: 1 | R53: -1 | S53: 1 | T53: 1 | U53: 1 | V53: 1 | W53: 1 | X53: 1 | Y53: 1 | Z53: -1 | AA53: 1 | AB53: 1 | AC53: 1 | AD53: 1 | AE53: 1 | AF53: 1 | AG53: 1 | AH53: 1 | AI53: 1 | AJ53: 1
A54: Kirk (R-IL) | B54: 1 | C54: 1 | D54: 1 | E54: 1 | F54: -1 | G54: -1 | H54: 1 | I54: 1 | J54: 1 | K54: 1 | L54: 1 | M54: 1 | N54: 1 | O54: -1 | P54: 1 | Q54: 1 | R54: 1 | S54: 1 | T54: 1 | U54: 0 | V54: 0 | W54: 0 | X54: 0 | Y54: 0 | Z54: 0 | AA54: 0 | AB54: 0 | AC54: 0 | AD54: 0 | AE54: 0 | AF54: 0 | AG54: 0 | AH54: 0 | AI54: 0 | AJ54: 0
A55: Klobuchar (D-MN) | B55: 1 | C55: 1 | D55: 1 | E55: 1 | F55: 1 | G55: 1 | H55: 1 | I55: 1 | J55: -1 | K55: 1 | L55: 1 | M55: 1 | N55: 1 | O55: 1 | P55: 1 | Q55: 1 | R55: -1 | S55: 1 | T55: 1 | U55: 1 | V55: 1 | W55: 1 | X55: 1 | Y55: 1 | Z55: -1 | AA55: 1 | AB55: 1 | AC55: 1 | AD55: 1 | AE55: 1 | AF55: 1 | AG55: 1 | AH55: 1 | AI55: 1 | AJ55: 1
A56: Kohl (D-WI) | B56: 1 | C56: 1 | D56: 1 | E56: 0 | F56: 1 | G56: 1 | H56: 1 | I56: 1 | J56: -1 | K56: 1 | L56: 1 | M56: 1 | N56: 1 | O56: 1 | P56: 1 | Q56: 1 | R56: -1 | S56: 1 | T56: 1 | U56: 1 | V56: 1 | W56: 1 | X56: 1 | Y56: 1 | Z56: -1 | AA56: 1 | AB56: 1 | AC56: 1 | AD56: 1 | AE56: 1 | AF56: 1 | AG56: 1 | AH56: 1 | AI56: 1 | AJ56: 1
A57: Kyl (R-AZ) | B57: 1 | C57: 1 | D57: 1 | E57: 1 | F57: -1 | G57: -1 | H57: 1 | I57: 1 | J57: 1 | K57: 1 | L57: -1 | M57: 1 | N57: 1 | O57: -1 | P57: 1 | Q57: 1 | R57: 1 | S57: 1 | T57: 1 | U57: 1 | V57: 0 | W57: 1 | X57: -1 | Y57: -1 | Z57: -1 | AA57: 1 | AB57: 1 | AC57: 1 | AD57: -1 | AE57: 1 | AF57: -1 | AG57: 1 | AH57: -1 | AI57: -1 | AJ57: -1
A58: Landrieu (D-LA) | B58: 1 | C58: 1 | D58: 1 | E58: 1 | F58: 1 | G58: 1 | H58: 1 | I58: 1 | J58: 1 | K58: 1 | L58: 1 | M58: 1 | N58: 1 | O58: 1 | P58: 1 | Q58: 1 | R58: -1 | S58: 1 | T58: 1 | U58: 1 | V58: 1 | W58: 1 | X58: -1 | Y58: 1 | Z58: -1 | AA58: 1 | AB58: 1 | AC58: 1 | AD58: 1 | AE58: 1 | AF58: 1 | AG58: -1 | AH58: 1 | AI58: 1 | AJ58: 1
...

Sheet AllVotes
B1: {=PivotTable!B2:AJ2} -> 1:101 | C1: 1:115 | D1: 1:129 | E1: 1:138 | F1: 1:150 | G1: 1:159 | H1: 1:161 | I1: 1:162 | J1: 1:163 | K1: 1:19 | L1: 1:194 | M1: 1:204 | N1: 1:218 | O1: 1:233 | P1: 1:25 | Q1: 1:35 | R1: 1:36 | S1: 1:49 | T1: 1:61 | U1: 2:111 | V1: 2:113 | W1: 2:14 | X1: 2:164 | Y1: 2:184 | Z1: 2:196 | AA1: 2:221 | AB1: 2:223 | AC1: 2:236 | AD1: 2:248 | AE1: 2:251 | AF1: 2:48 | AG1: 2:55 | AH1: 2:82 | AI1: 2:87 | AJ1: 2:96
A2: {=PivotTable!A3:A104} -> Akaka (D-HI) | B2: {=PivotTable!B3:AJ104} -> 1 | C2: 1 | D2: 1 | E2: 1 | F2: 1 | G2: 1 | H2: 1 | I2: -1 | J2: -1 | K2: 1 | L2: 1 | M2: 1 | N2: 1 | O2: 1 | P2: 1 | Q2: 1 | R2: -1 | S2: -1 | T2: 1 | U2: 1 | V2: 1 | W2: 1 | X2: 1 | Y2: 1 | Z2: -1 | AA2: 1 | AB2: 1 | AC2: -1 | AD2: 1 | AE2: 1 | AF2: 1 | AG2: -1 | AH2: -1 | AI2: 1 | AJ2: 1
A3: Alexander (R-TN) | B3: 1 | C3: 1 | D3: 1 | E3: 1 | F3: -1 | G3: -1 | H3: 1 | I3: 1 | J3: 1 | K3: 1 | L3: 1 | M3: 1 | N3: 1 | O3: 1 | P3: 1 | Q3: 1 | R3: 1 | S3: 1 | T3: 1 | U3: 1 | V3: -1 | W3: 1 | X3: 1 | Y3: -1 | Z3: -1 | AA3: 1 | AB3: 1 | AC3: 1 | AD3: -1 | AE3: 1 | AF3: 1 | AG3: 1 | AH3: 1 | AI3: 1 | AJ3: 1
A4: Ayotte (R-NH) | B4: -1 | C4: 1 | D4: 1 | E4: 1 | F4: -1 | G4: -1 | H4: 1 | I4: 1 | J4: 1 | K4: 1 | L4: -1 | M4: 1 | N4: 1 | O4: -1 | P4: 1 | Q4: 1 | R4: 1 | S4: 1 | T4: 1 | U4: 1 | V4: -1 | W4: 1 | X4: -1 | Y4: -1 | Z4: -1 | AA4: 1 | AB4: 1 | AC4: 1 | AD4: -1 | AE4: 1 | AF4: -1 | AG4: 1 | AH4: -1 | AI4: 1 | AJ4: 1
A5: Barrasso (R-WY) | B5: 1 | C5: 1 | D5: 1 | E5: 1 | F5: 0 | G5: -1 | H5: 1 | I5: 1 | J5: 1 | K5: 1 | L5: -1 | M5: 1 | N5: 1 | O5: -1 | P5: 1 | Q5: 1 | R5: 1 | S5: 1 | T5: 1 | U5: 1 | V5: -1 | W5: 1 | X5: 1 | Y5: -1 | Z5: -1 | AA5: 1 | AB5: 1 | AC5: 1 | AD5: -1 | AE5: 1 | AF5: -1 | AG5: 1 | AH5: -1 | AI5: -1 | AJ5: -1
A6: Baucus (D-MT) | B6: 1 | C6: 1 | D6: 1 | E6: 1 | F6: 1 | G6: 1 | H6: 1 | I6: 1 | J6: 1 | K6: -1 | L6: 1 | M6: 1 | N6: 1 | O6: 1 | P6: 1 | Q6: 1 | R6: -1 | S6: 1 | T6: 1 | U6: 1 | V6: 1 | W6: 1 | X6: 1 | Y6: 1 | Z6: -1 | AA6: 1 | AB6: 1 | AC6: -1 | AD6: 1 | AE6: 1 | AF6: 1 | AG6: -1 | AH6: 1 | AI6: 1 | AJ6: 1
A7: Begich (D-AK) | B7: 1 | C7: 1 | D7: 1 | E7: 1 | F7: 1 | G7: 1 | H7: 1 | I7: -1 | J7: -1 | K7: -1 | L7: 1 | M7: 1 | N7: 1 | O7: 1 | P7: 1 | Q7: 1 | R7: -1 | S7: 1 | T7: 1 | U7: 1 | V7: 1 | W7: 1 | X7: 1 | Y7: 1 | Z7: -1 | AA7: 1 | AB7: 1 | AC7: -1 | AD7: 1 | AE7: 1 | AF7: 1 | AG7: -1 | AH7: 1 | AI7: 1 | AJ7: 1
A8: Bennet (D-CO) | B8: 1 | C8: 1 | D8: 1 | E8: 1 | F8: 1 | G8: 1 | H8: 1 | I8: 1 | J8: 1 | K8: 1 | L8: 1 | M8: 1 | N8: 1 | O8: 1 | P8: 1 | Q8: 1 | R8: -1 | S8: 1 | T8: 1 | U8: 1 | V8: 1 | W8: 1 | X8: 1 | Y8: 1 | Z8: -1 | AA8: 1 | AB8: 1 | AC8: 1 | AD8: 1 | AE8: -1 | AF8: 1 | AG8: 1 | AH8: 1 | AI8: 1 | AJ8: 1
A9: Bingaman (D-NM) | B9: 1 | C9: 1 | D9: 1 | E9: 1 | F9: 1 | G9: 1 | H9: 1 | I9: 1 | J9: 1 | K9: 1 | L9: 1 | M9: 1 | N9: 1 | O9: 1 | P9: 1 | Q9: 1 | R9: -1 | S9: 1 | T9: 1 | U9: 1 | V9: 1 | W9: -1 | X9: 1 | Y9: 1 | Z9: -1 | AA9: 1 | AB9: 1 | AC9: -1 | AD9: 1 | AE9: 1 | AF9: 1 | AG9: 1 | AH9: 1 | AI9: 1 | AJ9: 1
A10: Blumenthal (D-CT) | B10: 1 | C10: 1 | D10: 1 | E10: 1 | F10: 1 | G10: 1 | H10: -1 | I10: -1 | J10: -1 | K10: 1 | L10: 1 | M10: 1 | N10: 1 | O10: 1 | P10: 1 | Q10: 1 | R10: -1 | S10: 1 | T10: 1 | U10: 0 | V10: 0 | W10: 1 | X10: 1 | Y10: 1 | Z10: -1 | AA10: 1 | AB10: 1 | AC10: 1 | AD10: 1 | AE10: 1 | AF10: 1 | AG10: -1 | AH10: 1 | AI10: 1 | AJ10: 1
A11: Blunt (R-MO) | B11: 1 | C11: 1 | D11: 1 | E11: 1 | F11: 1 | G11: -1 | H11: 1 | I11: 1 | J11: 1 | K11: 1 | L11: 1 | M11: 1 | N11: 1 | O11: 1 | P11: 1 | Q11: 1 | R11: 1 | S11: 1 | T11: 1 | U11: 1 | V11: -1 | W11: 1 | X11: 1 | Y11: -1 | Z11: -1 | AA11: 1 | AB11: 1 | AC11: 1 | AD11: -1 | AE11: 1 | AF11: 1 | AG11: 1 | AH11: 1 | AI11: -1 | AJ11: 1
A12: Boozman (R-AR) | B12: -1 | C12: 0 | D12: 1 | E12: 1 | F12: 1 | G12: -1 | H12: 1 | I12: 1 | J12: 1 | K12: 1 | L12: -1 | M12: 1 | N12: 1 | O12: 1 | P12: 1 | Q12: 1 | R12: 1 | S12: 1 | T12: 1 | U12: 1 | V12: -1 | W12: 1 | X12: -1 | Y12: -1 | Z12: 0 | AA12: 1 | AB12: 1 | AC12: 1 | AD12: -1 | AE12: 1 | AF12: 1 | AG12: 1 | AH12: 1 | AI12: -1 | AJ12: 1
A13: Boxer (D-CA) | B13: 1 | C13: 1 | D13: -1 | E13: 1 | F13: 1 | G13: 1 | H13: 1 | I13: -1 | J13: -1 | K13: 1 | L13: 1 | M13: 1 | N13: 1 | O13: 1 | P13: 1 | Q13: -1 | R13: -1 | S13: 1 | T13: 1 | U13: 1 | V13: 1 | W13: 1 | X13: 1 | Y13: 1 | Z13: 0 | AA13: 1 | AB13: 1 | AC13: 0 | AD13: 0 | AE13: 1 | AF13: 1 | AG13: -1 | AH13: 1 | AI13: 1 | AJ13: 1
A14: Brown (D-OH) | B14: 1 | C14: 1 | D14: 1 | E14: 1 | F14: 1 | G14: 1 | H14: -1 | I14: -1 | J14: -1 | K14: -1 | L14: 1 | M14: 1 | N14: 1 | O14: 1 | P14: 1 | Q14: 1 | R14: -1 | S14: 1 | T14: 1 | U14: 1 | V14: 1 | W14: 1 | X14: 1 | Y14: 1 | Z14: -1 | AA14: 1 | AB14: 1 | AC14: -1 | AD14: 1 | AE14: 1 | AF14: 1 | AG14: -1 | AH14: 1 | AI14: 1 | AJ14: 1
... A103: Wyden (D-OR) | B103: 1 | C103: 1 | D103: 1 | E103: 1 | F103: 1 | G103: 1 | H103: 1 | I103: 1 | J103: 1 | K103: 1 | L103: 1 | M103: 1 | N103: -1 | O103: 1 | P103: 1 | Q103: 1 | R103: -1 | S103: 1 | T103: -1 | U103: 1 | V103: 1 | W103: 1 | X103: 1 | Y103: 1 | Z103: -1 | AA103: 1 | AB103: 1 | AC103: -1 | AD103: 1 | AE103: 1 | AF103: 1 | AG103: 1 | AH103: 1 | AI103: 1 | AJ103: 1

Sheet Numerator
B1: {=TRANSPOSE(PivotTable!A3:A104)} -> Akaka (D-HI) | C1: Alexander (R-TN) | D1: Ayotte (R-NH) | E1: Barrasso (R-WY) | F1: Baucus (D-MT) | G1: Begich (D-AK) | H1: Bennet (D-CO) | I1: Bingaman (D-NM) | J1: Blumenthal (D-CT) | K1: Blunt (R-MO) | L1: Boozman (R-AR) | M1: Boxer (D-CA) | N1: Brown (D-OH) | O1: Brown (R-MA) | P1: Burr (R-NC) | Q1: Cantwell (D-WA) | R1: Cardin (D-MD) | S1: Carper (D-DE) | T1: Casey (D-PA) | U1: Chambliss (R-GA) | V1: Coats (R-IN) | W1: Coburn (R-OK) | X1: Cochran (R-MS) | Y1: Collins (R-ME) | Z1: Conrad (D-ND) | AA1: Coons (D-DE) | AB1: Corker (R-TN) | AC1: Cornyn (R-TX) | AD1: Crapo (R-ID) | AE1: DeMint (R-SC) | AF1: Durbin (D-IL) | AG1: Ensign (R-NV) | AH1: Enzi (R-WY) | AI1: Feinstein (D-CA) | AJ1: Franken (D-MN) | AK1: Gillibrand (D-NY) | AL1: Graham (R-SC) | AM1: Grassley (R-IA) | AN1: Hagan (D-NC) | AO1: Harkin (D-IA) | AP1: Hatch (R-UT) | AQ1: Heller (R-NV) | AR1: Hoeven (R-ND) | AS1: Hutchison (R-TX) | AT1: Inhofe (R-OK) | AU1: Inouye (D-HI) | AV1: Isakson (R-GA) | AW1: Johanns (R-NE) | AX1: Johnson (D-SD) | AY1: Johnson (R-WI) | AZ1: Kerry (D-MA) | BA1: Kirk (R-IL) | BB1: Klobuchar (D-MN) | BC1: Kohl (D-WI) | BD1: Kyl (R-AZ) | BE1: Landrieu (D-LA) | BF1: Lautenberg (D-NJ) | BG1: Leahy (D-VT) | BH1: Lee (R-UT) | BI1: Levin (D-MI) | BJ1: Lieberman (ID-CT) | BK1: Lugar (R-IN) | BL1: Manchin (D-WV) | BM1: McCain (R-AZ) | BN1: McCaskill (D-MO) | BO1: McConnell (R-KY) | BP1: Menendez (D-NJ) | BQ1: Merkley (D-OR) | BR1: Mikulski (D-MD) | BS1: Moran (R-KS) | BT1: Murkowski (R-AK) | BU1: Murray (D-WA) | BV1: Nelson (D-FL) | BW1: Nelson (D-NE) | BX1: Paul (R-KY) | BY1: Portman (R-OH) | BZ1: Pryor (D-AR) | CA1: Reed (D-RI) | CB1: Reid (D-NV) | CC1: Risch (R-ID) | CD1: Roberts (R-KS) | CE1: Rockefeller (D-WV) | CF1: Rubio (R-FL) | CG1: Sanders (I-VT) | CH1: Schatz (D-HI) | CI1: Schumer (D-NY) | CJ1: Sessions (R-AL) | CK1: Shaheen (D-NH) | CL1: Shelby (R-AL) | CM1: Snowe (R-ME) | CN1: Stabenow (D-MI) | CO1: Tester (D-MT) | CP1: Thune (R-SD) | CQ1: Toomey (R-PA) | CR1: Udall (D-CO) | CS1: Udall (D-NM) | CT1: Vitter (R-LA) | CU1: Warner (D-VA) | CV1: Webb (D-VA) | CW1: Whitehouse (D-RI) | CX1: Wicker (R-MS) | CY1: Wyden (D-OR)
A2: {=PivotTable!A3:A104} -> Akaka (D-HI)
A3: Alexander (R-TN)
A4: Ayotte (R-NH)
A5: Barrasso (R-WY)
A6: Baucus (D-MT)
A7: Begich (D-AK)
A8: Bennet (D-CO)
A9: Bingaman (D-NM)
A10: Blumenthal (D-CT)
A11: Blunt (R-MO)
A12: Boozman (R-AR)
A13: Boxer (D-CA)
A14: Brown (D-OH)
... A103: Wyden (D-OR)

Sheet Denominator
B1: {=TRANSPOSE(PivotTable!A3:A104)} -> Akaka (D-HI) | C1: Alexander (R-TN) | D1: Ayotte (R-NH) | E1: Barrasso (R-WY) | F1: Baucus (D-MT) | G1: Begich (D-AK) | H1: Bennet (D-CO) | I1: Bingaman (D-NM) | J1: Blumenthal (D-CT) | K1: Blunt (R-MO) | L1: Boozman (R-AR) | M1: Boxer (D-CA) | N1: Brown (D-OH) | O1: Brown (R-MA) | P1: Burr (R-NC) | Q1: Cantwell (D-WA) | R1: Cardin (D-MD) | S1: Carper (D-DE) | T1: Casey (D-PA) | U1: Chambliss (R-GA) | V1: Coats (R-IN) | W1: Coburn (R-OK) | X1: Cochran (R-MS) | Y1: Collins (R-ME) | Z1: Conrad (D-ND) | AA1: Coons (D-DE) | AB1: Corker (R-TN) | AC1: Cornyn (R-TX) | AD1: Crapo (R-ID) | AE1: DeMint (R-SC) | AF1: Durbin (D-IL) | AG1: Ensign (R-NV) | AH1: Enzi (R-WY) | AI1: Feinstein (D-CA) | AJ1: Franken (D-MN) | AK1: Gillibrand (D-NY) | AL1: Graham (R-SC) | AM1: Grassley (R-IA) | AN1: Hagan (D-NC) | AO1: Harkin (D-IA) | AP1: Hatch (R-UT) | AQ1: Heller (R-NV) | AR1: Hoeven (R-ND) | AS1: Hutchison (R-TX) | AT1: Inhofe (R-OK) | AU1: Inouye (D-HI) | AV1: Isakson (R-GA) | AW1: Johanns (R-NE) | AX1: Johnson (D-SD) | AY1: Johnson (R-WI) | AZ1: Kerry (D-MA) | BA1: Kirk (R-IL) | BB1: Klobuchar (D-MN) | BC1: Kohl (D-WI) | BD1: Kyl (R-AZ) | BE1: Landrieu (D-LA) | BF1: Lautenberg (D-NJ) | BG1: Leahy (D-VT) | BH1: Lee (R-UT) | BI1: Levin (D-MI) | BJ1: Lieberman (ID-CT) | BK1: Lugar (R-IN) | BL1: Manchin (D-WV) | BM1: McCain (R-AZ) | BN1: McCaskill (D-MO) | BO1: McConnell (R-KY) | BP1: Menendez (D-NJ) | BQ1: Merkley (D-OR) | BR1: Mikulski (D-MD) | BS1: Moran (R-KS) | BT1: Murkowski (R-AK) | BU1: Murray (D-WA) | BV1: Nelson (D-FL) | BW1: Nelson (D-NE) | BX1: Paul (R-KY) | BY1: Portman (R-OH) | BZ1: Pryor (D-AR) | CA1: Reed (D-RI) | CB1: Reid (D-NV) | CC1: Risch (R-ID) | CD1: Roberts (R-KS) | CE1: Rockefeller (D-WV) | CF1: Rubio (R-FL) | CG1: Sanders (I-VT) | CH1: Schatz (D-HI) | CI1: Schumer (D-NY) | CJ1: Sessions (R-AL) | CK1: Shaheen (D-NH) | CL1: Shelby (R-AL) | CM1: Snowe (R-ME) | CN1: Stabenow (D-MI) | CO1: Tester (D-MT) | CP1: Thune (R-SD) | CQ1: Toomey (R-PA) | CR1: Udall (D-CO) | CS1: Udall (D-NM) | CT1: Vitter (R-LA) | CU1: Warner (D-VA) | CV1: Webb (D-VA) | CW1: Whitehouse (D-RI) | CX1: Wicker (R-MS) | CY1: Wyden (D-OR)
A2: {=PivotTable!A3:A104} -> Akaka (D-HI)
A3: Alexander (R-TN)
A4: Ayotte (R-NH)
A5: Barrasso (R-WY)
A6: Baucus (D-MT)
A7: Begich (D-AK)
A8: Bennet (D-CO)
A9: Bingaman (D-NM)
A10: Blumenthal (D-CT)
A11: Blunt (R-MO)
A12: Boozman (R-AR)
A13: Boxer (D-CA)
A14: Brown (D-OH)
... A103: Wyden (D-OR)

Sheet AllCompare
B1: {=Numerator!B1:CY1} -> Akaka (D-HI) | C1: Alexander (R-TN) | D1: Ayotte (R-NH) | E1: Barrasso (R-WY) | F1: Baucus (D-MT) | G1: Begich (D-AK) | H1: Bennet (D-CO) | I1: Bingaman (D-NM) | J1: Blumenthal (D-CT) | K1: Blunt (R-MO) | L1: Boozman (R-AR) | M1: Boxer (D-CA) | N1: Brown (D-OH) | O1: Brown (R-MA) | P1: Burr (R-NC) | Q1: Cantwell (D-WA) | R1: Cardin (D-MD) | S1: Carper (D-DE) | T1: Casey (D-PA) | U1: Chambliss (R-GA) | V1: Coats (R-IN) | W1: Coburn (R-OK) | X1: Cochran (R-MS) | Y1: Collins (R-ME) | Z1: Conrad (D-ND) | AA1: Coons (D-DE) | AB1: Corker (R-TN) | AC1: Cornyn (R-TX) | AD1: Crapo (R-ID) | AE1: DeMint (R-SC) | AF1: Durbin (D-IL) | AG1: Ensign (R-NV) | AH1: Enzi (R-WY) | AI1: Feinstein (D-CA) | AJ1: Franken (D-MN) | AK1: Gillibrand (D-NY) | AL1: Graham (R-SC) | AM1: Grassley (R-IA) | AN1: Hagan (D-NC) | AO1: Harkin (D-IA) | AP1: Hatch (R-UT) | AQ1: Heller (R-NV) | AR1: Hoeven (R-ND) | AS1: Hutchison (R-TX) | AT1: Inhofe (R-OK) | AU1: Inouye (D-HI) | AV1: Isakson (R-GA) | AW1: Johanns (R-NE) | AX1: Johnson (D-SD) | AY1: Johnson (R-WI) | AZ1: Kerry (D-MA) | BA1: Kirk (R-IL) | BB1: Klobuchar (D-MN) | BC1: Kohl (D-WI) | BD1: Kyl (R-AZ) | BE1: Landrieu (D-LA) | BF1: Lautenberg (D-NJ) | BG1: Leahy (D-VT) | BH1: Lee (R-UT) | BI1: Levin (D-MI) | BJ1: Lieberman (ID-CT) | BK1: Lugar (R-IN) | BL1: Manchin (D-WV) | BM1: McCain (R-AZ) | BN1: McCaskill (D-MO) | BO1: McConnell (R-KY) | BP1: Menendez (D-NJ) | BQ1: Merkley (D-OR) | BR1: Mikulski (D-MD) | BS1: Moran (R-KS) | BT1: Murkowski (R-AK) | BU1: Murray (D-WA) | BV1: Nelson (D-FL) | BW1: Nelson (D-NE) | BX1: Paul (R-KY) | BY1: Portman (R-OH) | BZ1: Pryor (D-AR) | CA1: Reed (D-RI) | CB1: Reid (D-NV) | CC1: Risch (R-ID) | CD1: Roberts (R-KS) | CE1: Rockefeller (D-WV) | CF1: Rubio (R-FL) | CG1: Sanders (I-VT) | CH1: Schatz (D-HI) | CI1: Schumer (D-NY) | CJ1: Sessions (R-AL) | CK1: Shaheen (D-NH) | CL1: Shelby (R-AL) | CM1: Snowe (R-ME) | CN1: Stabenow (D-MI) | CO1: Tester (D-MT) | CP1: Thune (R-SD) | CQ1: Toomey (R-PA) | CR1: Udall (D-CO) | CS1: Udall (D-NM) | CT1: Vitter (R-LA) | CU1: Warner (D-VA) | CV1: Webb (D-VA) | CW1: Whitehouse (D-RI) | CX1: Wicker (R-MS) | CY1: Wyden (D-OR)
A2: {=Numerator!A2:A103} -> Akaka (D-HI)
A3: Alexander (R-TN)
A4: Ayotte (R-NH)
A5: Barrasso (R-WY)
A6: Baucus (D-MT)
A7: Begich (D-AK)
A8: Bennet (D-CO)
A9: Bingaman (D-NM)
A10: Blumenthal (D-CT)
A11: Blunt (R-MO)
A12: Boozman (R-AR)
A13: Boxer (D-CA)
A14: Brown (D-OH)
... A103: Wyden (D-OR)

Sheet Clustering
A1: 8 | B1: 108
H7: =AllCompare!B1 -> Akaka (D-HI) | I7: =AllCompare!C1 -> Alexander (R-TN) | J7: =AllCompare!D1 -> Ayotte (R-NH) | K7: =AllCompare!E1 -> Barrasso (R-WY) | L7: =AllCompare!F1 -> Baucus (D-MT) | M7: =AllCompare!G1 -> Begich (D-AK) | N7: =AllCompare!H1 -> Bennet (D-CO) | O7: =AllCompare!I1 -> Bingaman (D-NM) | ... DE7: =AllCompare!CY1 -> Wyden (D-OR)
G8: =AllCompare!A2 -> Akaka (D-HI) | H8: =AllCompare!B2 -> 0 | I8: =AllCompare!C2 -> 0 | J8: =AllCompare!D2 -> 0 | K8: =AllCompare!E2 -> 0 | L8: =AllCompare!F2 -> 0 | M8: =AllCompare!G2 -> 0 | N8: =AllCompare!H2 -> 0 | ... DE8: =AllCompare!CY2 -> 0
G9: =AllCompare!A3 -> Alexander (R-TN) | H9: =AllCompare!B3 -> 0 | I9: =AllCompare!C3 -> 0 | J9: =AllCompare!D3 -> 0 | K9: =AllCompare!E3 -> 0 | L9: =AllCompare!F3 -> 0 | M9: =AllCompare!G3 -> 0 | N9: =AllCompare!H3 -> 0 | ... DE9: =AllCompare!CY3 -> 0
G10: =AllCompare!A4 -> Ayotte (R-NH) | H10: =AllCompare!B4 -> 0 | I10: =AllCompare!C4 -> 0 | J10: =AllCompare!D4 -> 0 | K10: =AllCompare!E4 -> 0 | L10: =AllCompare!F4 -> 0 | M10: =AllCompare!G4 -> 0 | N10: =AllCompare!H4 -> 0 | ... DE10: =AllCompare!CY4 -> 0
G11: =AllCompare!A5 -> Barrasso (R-WY) | H11: =AllCompare!B5 -> 0 | I11: =AllCompare!C5 -> 0 | J11: =AllCompare!D5 -> 0 | K11: =AllCompare!E5 -> 0 | L11: =AllCompare!F5 -> 0 | M11: =AllCompare!G5 -> 0 | N11: =AllCompare!H5 -> 0 | ... DE11: =AllCompare!CY5 -> 0
G12: =AllCompare!A6 -> Baucus (D-MT) | H12: =AllCompare!B6 -> 0 | I12: =AllCompare!C6 -> 0 | J12: =AllCompare!D6 -> 0 | K12: =AllCompare!E6 -> 0 | L12: =AllCompare!F6 -> 0 | M12: =AllCompare!G6 -> 0 | N12: =AllCompare!H6 -> 0 | ... DE12: =AllCompare!CY6 -> 0
G13: =AllCompare!A7 -> Begich (D-AK) | H13: =AllCompare!B7 -> 0 | I13: =AllCompare!C7 -> 0 | J13: =AllCompare!D7 -> 0 | K13: =AllCompare!E7 -> 0 | L13: =AllCompare!F7 -> 0 | M13: =AllCompare!G7 -> 0 | N13: =AllCompare!H7 -> 0 | ... DE13: =AllCompare!CY7 -> 0
G14: =AllCompare!A8 -> Bennet (D-CO) | H14: =AllCompare!B8 -> 0 | I14: =AllCompare!C8 -> 0 | J14: =AllCompare!D8 -> 0 | K14: =AllCompare!E8 -> 0 | L14: =AllCompare!F8 -> 0 | M14: =AllCompare!G8 -> 0 | N14: =AllCompare!H8 -> 0 | ... DE14: =AllCompare!CY8 -> 0
G15: =AllCompare!A9 -> Bingaman (D-NM) | H15: =AllCompare!B9 -> 0 | I15: =AllCompare!C9 -> 0 | J15: =AllCompare!D9 -> 0 | K15: =AllCompare!E9 -> 0 | L15: =AllCompare!F9 -> 0 | M15: =AllCompare!G9 -> 0 | N15: =AllCompare!H9 -> 0 | ... DE15: =AllCompare!CY9 -> 0
G16: =AllCompare!A10 -> Blumenthal (D-CT) | H16: =AllCompare!B10 -> 0 | I16: =AllCompare!C10 -> 0 | J16: =AllCompare!D10 -> 0 | K16: =AllCompare!E10 -> 0 | L16: =AllCompare!F10 -> 0 | M16: =AllCompare!G10 -> 0 | N16: =AllCompare!H10 -> 0 | ... DE16: =AllCompare!CY10 -> 0
G17: =AllCompare!A11 -> Blunt (R-MO) | H17: =AllCompare!B11 -> 0 | I17: =AllCompare!C11 -> 0 | J17: =AllCompare!D11 -> 0 | K17: =AllCompare!E11 -> 0 | L17: =AllCompare!F11 -> 0 | M17: =AllCompare!G11 -> 0 | N17: =AllCompare!H11 -> 0 | ... DE17: =AllCompare!CY11 -> 0
G18: =AllCompare!A12 -> Boozman (R-AR) | H18: =AllCompare!B12 -> 0 | I18: =AllCompare!C12 -> 0 | J18: =AllCompare!D12 -> 0 | K18: =AllCompare!E12 -> 0 | L18: =AllCompare!F12 -> 0 | M18: =AllCompare!G12 -> 0 | N18: =AllCompare!H12 -> 0 | ... DE18: =AllCompare!CY12 -> 0
G19: =AllCompare!A13 -> Boxer (D-CA) | H19: =AllCompare!B13 -> 0 | I19: =AllCompare!C13 -> 0 | J19: =AllCompare!D13 -> 0 | K19: =AllCompare!E13 -> 0 | L19: =AllCompare!F13 -> 0 | M19: =AllCompare!G13 -> 0 | N19: =AllCompare!H13 -> 0 | ... DE19: =AllCompare!CY13 -> 0
... G109: =AllCompare!A103 -> Wyden (D-OR) | H109: =AllCompare!B103 -> 0 | I109: =AllCompare!C103 -> 0 | J109: =AllCompare!D103 -> 0 | K109: =AllCompare!E103 -> 0 | L109: =AllCompare!F103 -> 0 | M109: =AllCompare!G103 -> 0 | N109: =AllCompare!H103 -> 0 | ... DE109: =AllCompare!CY103 -> 0
