Workbook

Sheet README
A2: This Excel file contains three sheets.
A4: Sheet 1: Histogram
A5: Plots the histogram of experiments of 25 coin flips each. The user can specify the probability of Heads and the number of experiments to perform.
A7: Sheet 2: Histogram Numbers
A8: Numbers that the Histogram sheet uses to plot.
A10: Sheet 3: Coin Flips
A11: Sheet of 1,000 coin flip experiments. RAND() is used: note that the values change with EACH modification of the excel file.

Sheet Histogram
A1: One Experiment is 25 Coin Flips.
A2: Probability of Heads: | D2: 0.5 | E2: (Must be Between 0 and 1)
A3: # of Experiments: | D3: 1 | E3: (Must be Less than 1000)
A4: # Heads in OUR Experiment:
A6: =CONCATENATE("# Exps with >= ",D4," Heads") -> # Exps with >= Heads | D6: =SUM(HistogramNumbers!C2:C27) -> 26
A7: =CONCATENATE("% Exps with >= ",D4," Heads") -> % Exps with >= Heads | D7: =D6/25 -> 1.04
A8: =CONCATENATE("1 - (% Exps with >= ",D4," Heads)") -> 1 - (% Exps with >= Heads) | D8: =1-D7 -> -0.04

Sheet HistogramNumbers
A1: # Heads | B1: # of Experiments | C1: Higher Than OUR Experiment?
A2: 0 | B2: =COUNTIF(CoinFlips!$A$3:INDEX(CoinFlips!$A$3:'CoinFlips'!$A$1002,Histogram!$D$3),HistogramNumbers!$A2) -> 0 | C2: =IF(A2 >= Histogram!$D$4,1,0) -> 1
A3: 1 | B3: =COUNTIF(CoinFlips!$A$3:INDEX(CoinFlips!$A$3:'CoinFlips'!$A$1002,Histogram!$D$3),HistogramNumbers!$A3) -> 0 | C3: =IF(A3 >= Histogram!$D$4,1,0) -> 1
A4: 2 | B4: =COUNTIF(CoinFlips!$A$3:INDEX(CoinFlips!$A$3:'CoinFlips'!$A$1002,Histogram!$D$3),HistogramNumbers!$A4) -> 0 | C4: =IF(A4 >= Histogram!$D$4,1,0) -> 1
A5: 3 | B5: =COUNTIF(CoinFlips!$A$3:INDEX(CoinFlips!$A$3:'CoinFlips'!$A$1002,Histogram!$D$3),HistogramNumbers!$A5) -> 0 | C5: =IF(A5 >= Histogram!$D$4,1,0) -> 1
A6: 4 | B6: =COUNTIF(CoinFlips!$A$3:INDEX(CoinFlips!$A$3:'CoinFlips'!$A$1002,Histogram!$D$3),HistogramNumbers!$A6) -> 0 | C6: =IF(A6 >= Histogram!$D$4,1,0) -> 1
A7: 5 | B7: =COUNTIF(CoinFlips!$A$3:INDEX(CoinFlips!$A$3:'CoinFlips'!$A$1002,Histogram!$D$3),HistogramNumbers!$A7) -> 0 | C7: =IF(A7 >= Histogram!$D$4,1,0) -> 1
A8: 6 | B8: =COUNTIF(CoinFlips!$A$3:INDEX(CoinFlips!$A$3:'CoinFlips'!$A$1002,Histogram!$D$3),HistogramNumbers!$A8) -> 0 | C8: =IF(A8 >= Histogram!$D$4,1,0) -> 1
A9: 7 | B9: =COUNTIF(CoinFlips!$A$3:INDEX(CoinFlips!$A$3:'CoinFlips'!$A$1002,Histogram!$D$3),HistogramNumbers!$A9) -> 0 | C9: =IF(A9 >= Histogram!$D$4,1,0) -> 1
A10: 8 | B10: =COUNTIF(CoinFlips!$A$3:INDEX(CoinFlips!$A$3:'CoinFlips'!$A$1002,Histogram!$D$3),HistogramNumbers!$A10) -> 0 | C10: =IF(A10 >= Histogram!$D$4,1,0) -> 1
A11: 9 | B11: =COUNTIF(CoinFlips!$A$3:INDEX(CoinFlips!$A$3:'CoinFlips'!$A$1002,Histogram!$D$3),HistogramNumbers!$A11) -> 0 | C11: =IF(A11 >= Histogram!$D$4,1,0) -> 1
A12: 10 | B12: =COUNTIF(CoinFlips!$A$3:INDEX(CoinFlips!$A$3:'CoinFlips'!$A$1002,Histogram!$D$3),HistogramNumbers!$A12) -> 0 | C12: =IF(A12 >= Histogram!$D$4,1,0) -> 1
A13: 11 | B13: =COUNTIF(CoinFlips!$A$3:INDEX(CoinFlips!$A$3:'CoinFlips'!$A$1002,Histogram!$D$3),HistogramNumbers!$A13) -> 0 | C13: =IF(A13 >= Histogram!$D$4,1,0) -> 1
... A27: 25 | B27: =COUNTIF(CoinFlips!$A$3:INDEX(CoinFlips!$A$3:'CoinFlips'!$A$1002,Histogram!$D$3),HistogramNumbers!$A27) -> 0 | C27: =IF(A27 >= Histogram!$D$4,1,0) -> 1

Sheet CoinFlips
E1: 1 | F1: 2 | G1: 3 | H1: 4 | I1: 5 | J1: 6 | K1: 7 | L1: 8 | M1: 9 | N1: 10 | O1: 11 | P1: 12 | Q1: 13 | R1: 14 | S1: 15 | T1: 16 | U1: 17 | V1: 18 | W1: 19 | X1: 20 | Y1: 21 | Z1: 22 | AA1: 23 | AB1: 24 | AC1: 25
A2: # Heads | B2: # Tails | D2: Exp. # | E2: Coin Flip | F2: Coin Flip | G2: Coin Flip | H2: Coin Flip | I2: Coin Flip | J2: Coin Flip | K2: Coin Flip | L2: Coin Flip | M2: Coin Flip | N2: Coin Flip | O2: Coin Flip | P2: Coin Flip | Q2: Coin Flip | R2: Coin Flip | S2: Coin Flip | T2: Coin Flip | U2: Coin Flip | V2: Coin Flip | W2: Coin Flip | X2: Coin Flip | Y2: Coin Flip | Z2: Coin Flip | AA2: Coin Flip | AB2: Coin Flip | AC2: Coin Flip
A3: =COUNTIF(E3:AC3,"H") -> 15 | B3: =COUNTIF(F3:AD3,"T") -> 10 | D3: 1 | E3: =IF(RAND()<Histogram!$D$2,"H","T") -> H | F3: =IF(RAND()<Histogram!$D$2,"H","T") -> T | G3: =IF(RAND()<Histogram!$D$2,"H","T") -> T | H3: =IF(RAND()<Histogram!$D$2,"H","T") -> H | I3: =IF(RAND()<Histogram!$D$2,"H","T") -> H | J3: =IF(RAND()<Histogram!$D$2,"H","T") -> H | K3: =IF(RAND()<Histogram!$D$2,"H","T") -> T | L3: =IF(RAND()<Histogram!$D$2,"H","T") -> H | ... AC3: =IF(RAND()<Histogram!$D$2,"H","T") -> H
A4: =COUNTIF(E4:AC4,"H") -> 12 | B4: =COUNTIF(F4:AD4,"T") -> 12 | D4: 2 | E4: =IF(RAND()<Histogram!$D$2,"H","T") -> T | F4: =IF(RAND()<Histogram!$D$2,"H","T") -> T | G4: =IF(RAND()<Histogram!$D$2,"H","T") -> T | H4: =IF(RAND()<Histogram!$D$2,"H","T") -> H | I4: =IF(RAND()<Histogram!$D$2,"H","T") -> H | J4: =IF(RAND()<Histogram!$D$2,"H","T") -> H | K4: =IF(RAND()<Histogram!$D$2,"H","T") -> H | L4: =IF(RAND()<Histogram!$D$2,"H","T") -> T | ... AC4: =IF(RAND()<Histogram!$D$2,"H","T") -> T
A5: =COUNTIF(E5:AC5,"H") -> 13 | B5: =COUNTIF(F5:AD5,"T") -> 11 | D5: 3 | E5: =IF(RAND()<Histogram!$D$2,"H","T") -> T | F5: =IF(RAND()<Histogram!$D$2,"H","T") -> H | G5: =IF(RAND()<Histogram!$D$2,"H","T") -> H | H5: =IF(RAND()<Histogram!$D$2,"H","T") -> H | I5: =IF(RAND()<Histogram!$D$2,"H","T") -> T | J5: =IF(RAND()<Histogram!$D$2,"H","T") -> T | K5: =IF(RAND()<Histogram!$D$2,"H","T") -> H | L5: =IF(RAND()<Histogram!$D$2,"H","T") -> H | ... AC5: =IF(RAND()<Histogram!$D$2,"H","T") -> T
A6: =COUNTIF(E6:AC6,"H") -> 11 | B6: =COUNTIF(F6:AD6,"T") -> 13 | D6: 4 | E6: =IF(RAND()<Histogram!$D$2,"H","T") -> T | F6: =IF(RAND()<Histogram!$D$2,"H","T") -> T | G6: =IF(RAND()<Histogram!$D$2,"H","T") -> H | H6: =IF(RAND()<Histogram!$D$2,"H","T") -> H | I6: =IF(RAND()<Histogram!$D$2,"H","T") -> T | J6: =IF(RAND()<Histogram!$D$2,"H","T") -> T | K6: =IF(RAND()<Histogram!$D$2,"H","T") -> T | L6: =IF(RAND()<Histogram!$D$2,"H","T") -> T | ... AC6: =IF(RAND()<Histogram!$D$2,"H","T") -> H
A7: =COUNTIF(E7:AC7,"H") -> 15 | B7: =COUNTIF(F7:AD7,"T") -> 9 | D7: 5 | E7: =IF(RAND()<Histogram!$D$2,"H","T") -> T | F7: =IF(RAND()<Histogram!$D$2,"H","T") -> T | G7: =IF(RAND()<Histogram!$D$2,"H","T") -> H | H7: =IF(RAND()<Histogram!$D$2,"H","T") -> H | I7: =IF(RAND()<Histogram!$D$2,"H","T") -> T | J7: =IF(RAND()<Histogram!$D$2,"H","T") -> H | K7: =IF(RAND()<Histogram!$D$2,"H","T") -> H | L7: =IF(RAND()<Histogram!$D$2,"H","T") -> H | ... AC7: =IF(RAND()<Histogram!$D$2,"H","T") -> H
A8: =COUNTIF(E8:AC8,"H") -> 17 | B8: =COUNTIF(F8:AD8,"T") -> 8 | D8: 6 | E8: =IF(RAND()<Histogram!$D$2,"H","T") -> H | F8: =IF(RAND()<Histogram!$D$2,"H","T") -> H | G8: =IF(RAND()<Histogram!$D$2,"H","T") -> H | H8: =IF(RAND()<Histogram!$D$2,"H","T") -> H | I8: =IF(RAND()<Histogram!$D$2,"H","T") -> H | J8: =IF(RAND()<Histogram!$D$2,"H","T") -> H | K8: =IF(RAND()<Histogram!$D$2,"H","T") -> T | L8: =IF(RAND()<Histogram!$D$2,"H","T") -> H | ... AC8: =IF(RAND()<Histogram!$D$2,"H","T") -> H
A9: =COUNTIF(E9:AC9,"H") -> 12 | B9: =COUNTIF(F9:AD9,"T") -> 13 | D9: 7 | E9: =IF(RAND()<Histogram!$D$2,"H","T") -> H | F9: =IF(RAND()<Histogram!$D$2,"H","T") -> H | G9: =IF(RAND()<Histogram!$D$2,"H","T") -> T | H9: =IF(RAND()<Histogram!$D$2,"H","T") -> H | I9: =IF(RAND()<Histogram!$D$2,"H","T") -> H | J9: =IF(RAND()<Histogram!$D$2,"H","T") -> T | K9: =IF(RAND()<Histogram!$D$2,"H","T") -> H | L9: =IF(RAND()<Histogram!$D$2,"H","T") -> H | ... AC9: =IF(RAND()<Histogram!$D$2,"H","T") -> H
A10: =COUNTIF(E10:AC10,"H") -> 8 | B10: =COUNTIF(F10:AD10,"T") -> 16 | D10: 8 | E10: =IF(RAND()<Histogram!$D$2,"H","T") -> T | F10: =IF(RAND()<Histogram!$D$2,"H","T") -> T | G10: =IF(RAND()<Histogram!$D$2,"H","T") -> T | H10: =IF(RAND()<Histogram!$D$2,"H","T") -> T | I10: =IF(RAND()<Histogram!$D$2,"H","T") -> H | J10: =IF(RAND()<Histogram!$D$2,"H","T") -> T | K10: =IF(RAND()<Histogram!$D$2,"H","T") -> T | L10: =IF(RAND()<Histogram!$D$2,"H","T") -> T | ... AC10: =IF(RAND()<Histogram!$D$2,"H","T") -> T
A11: =COUNTIF(E11:AC11,"H") -> 16 | B11: =COUNTIF(F11:AD11,"T") -> 8 | D11: 9 | E11: =IF(RAND()<Histogram!$D$2,"H","T") -> T | F11: =IF(RAND()<Histogram!$D$2,"H","T") -> T | G11: =IF(RAND()<Histogram!$D$2,"H","T") -> T | H11: =IF(RAND()<Histogram!$D$2,"H","T") -> H | I11: =IF(RAND()<Histogram!$D$2,"H","T") -> H | J11: =IF(RAND()<Histogram!$D$2,"H","T") -> T | K11: =IF(RAND()<Histogram!$D$2,"H","T") -> H | L11: =IF(RAND()<Histogram!$D$2,"H","T") -> T | ... AC11: =IF(RAND()<Histogram!$D$2,"H","T") -> T
A12: =COUNTIF(E12:AC12,"H") -> 10 | B12: =COUNTIF(F12:AD12,"T") -> 15 | D12: 10 | E12: =IF(RAND()<Histogram!$D$2,"H","T") -> H | F12: =IF(RAND()<Histogram!$D$2,"H","T") -> H | G12: =IF(RAND()<Histogram!$D$2,"H","T") -> T | H12: =IF(RAND()<Histogram!$D$2,"H","T") -> H | I12: =IF(RAND()<Histogram!$D$2,"H","T") -> T | J12: =IF(RAND()<Histogram!$D$2,"H","T") -> T | K12: =IF(RAND()<Histogram!$D$2,"H","T") -> H | L12: =IF(RAND()<Histogram!$D$2,"H","T") -> T | ... AC12: =IF(RAND()<Histogram!$D$2,"H","T") -> T
A13: =COUNTIF(E13:AC13,"H") -> 13 | B13: =COUNTIF(F13:AD13,"T") -> 12 | D13: 11 | E13: =IF(RAND()<Histogram!$D$2,"H","T") -> H | F13: =IF(RAND()<Histogram!$D$2,"H","T") -> T | G13: =IF(RAND()<Histogram!$D$2,"H","T") -> H | H13: =IF(RAND()<Histogram!$D$2,"H","T") -> H | I13: =IF(RAND()<Histogram!$D$2,"H","T") -> T | J13: =IF(RAND()<Histogram!$D$2,"H","T") -> H | K13: =IF(RAND()<Histogram!$D$2,"H","T") -> H | L13: =IF(RAND()<Histogram!$D$2,"H","T") -> T | ... AC13: =IF(RAND()<Histogram!$D$2,"H","T") -> T
A14: =COUNTIF(E14:AC14,"H") -> 15 | B14: =COUNTIF(F14:AD14,"T") -> 9 | D14: 12 | E14: =IF(RAND()<Histogram!$D$2,"H","T") -> T | F14: =IF(RAND()<Histogram!$D$2,"H","T") -> H | G14: =IF(RAND()<Histogram!$D$2,"H","T") -> H | H14: =IF(RAND()<Histogram!$D$2,"H","T") -> H | I14: =IF(RAND()<Histogram!$D$2,"H","T") -> H | J14: =IF(RAND()<Histogram!$D$2,"H","T") -> T | K14: =IF(RAND()<Histogram!$D$2,"H","T") -> H | L14: =IF(RAND()<Histogram!$D$2,"H","T") -> T | ... AC14: =IF(RAND()<Histogram!$D$2,"H","T") -> T
... A1002: =COUNTIF(E1002:AC1002,"H") -> 12 | B1002: =COUNTIF(F1002:AD1002,"T") -> 12 | D1002: 1000 | E1002: =IF(RAND()<Histogram!$D$2,"H","T") -> T | F1002: =IF(RAND()<Histogram!$D$2,"H","T") -> H | G1002: =IF(RAND()<Histogram!$D$2,"H","T") -> H | H1002: =IF(RAND()<Histogram!$D$2,"H","T") -> H | I1002: =IF(RAND()<Histogram!$D$2,"H","T") -> H | J1002: =IF(RAND()<Histogram!$D$2,"H","T") -> H | K1002: =IF(RAND()<Histogram!$D$2,"H","T") -> H | L1002: =IF(RAND()<Histogram!$D$2,"H","T") -> T | ... AC1002: =IF(RAND()<Histogram!$D$2,"H","T") -> T
